BEGIN:VCALENDAR
VERSION:2.0
PRODID:-//Extinction Rebellion Boston//Action//
BEGIN:VEVENT
SUMMARY:General Meeting - Come One\, Come All!
DTSTART:20260318T220000Z
DTEND:20260319T000000Z
DTSTAMP:20260421T141234Z
UID:2230@https://xrboston.org
CREATED:20260421T141234Z
DESCRIPTION:Event details: https://xrboston.org/action/general-meeting-202
 6-03-18/\n\nJoin us for our March General Meeting\, where we’ll reconnec
 t as a community. Hear updates about recent XR actions and arrestees\, as 
 well as what’s going on at the State House.  Reflect on the damage being
  done at the federal level\, and channel our love and rage into sign-makin
 g in preparation for the big [No Kings](https://www.mobilize.us/nokings/ev
 ent/901135/) demonstration on Saturday\, March 28. Here's the calendar eve
 nt for [XR at No Kings](https://xrboston.org/action/solidarity-no-kings-03
 _28/).\n\nWe’ll provide plant-based food. Bring plant-based or vegetaria
 n side or dessert (or anything else) to share if you can\, or just bring y
 ourself!  \n\nThis meeting is open to everyone! Join us anytime from 6–8
  pm.\n\nFinding the Community Church of Boston: CCB doesn't look like a re
 gular church. The entrance is between an Italian sandwich shop and a liquo
 r store.
LAST-MODIFIED:20260319T210144Z
LOCATION:Community Church of Boston\, 565 Boylston St\, Boston\, MA 02116
ORGANIZER;CN="Extinction Rebellion Boston":MAILTO:outreach@xrboston.org
URL:https://xrboston.org/action/general-meeting-2026-03-18/
END:VEVENT
END:VCALENDAR
