BEGIN:VCALENDAR
VERSION:2.0
PRODID:-//Extinction Rebellion Boston//Action//
BEGIN:VEVENT
SUMMARY:General Meeting & New Year Kickoff
DTSTART:20240121T210000Z
DTEND:20240121T230000Z
DTSTAMP:20260425T133304Z
UID:1700@https://xrboston.org
CREATED:20260425T133304Z
DESCRIPTION:Event details: https://xrboston.org/action/general-meeting-jan
 2024/\n\nGet ready for our biggest year of climate action yet!\n\nTo kick 
 off the fun\, we’ll meet\, mingle\, and focus on the core elements of wh
 at we need to make the most of the little time we have left:\n\n* Socializ
 ing with people who care for each other and the world    \n* Building skil
 ls to dramatically grow our movement     \n* Pizza! (including vegan and g
 luten-free options)     \n\nWe know we can turn things around\, but we can
  only do so as a community\, and we need you! Let us get ready together no
 w\, because later is too late.\n\nPlease bring your own water bottle. We a
 lso greatly appreciate anyone bringing a side dish or dessert to share. (P
 lease bring a list of ingredients as well.)\n\nWe’ll meet in the nice ro
 oms of the Democracy Center. Masks are not required but are of course welc
 ome. We ask you not to come if you are feeling sick.\n\nWe will wrap up by
  6pm.
LAST-MODIFIED:20231220T232531Z
LOCATION:Democracy Center\, 45 Mt Auburn St\, Cambridge MA
ORGANIZER;CN="Extinction Rebellion Boston":MAILTO:outreach@xrboston.org
URL:https://xrboston.org/action/general-meeting-jan2024/
END:VEVENT
END:VCALENDAR
