BEGIN:VCALENDAR
VERSION:2.0
PRODID:-//Extinction Rebellion Boston//Action//
BEGIN:VEVENT
SUMMARY:General Meeting
DTSTART:20220731T170000Z
DTEND:20220731T190000Z
DTSTAMP:20260419T182133Z
UID:1243@https://xrboston.org
CREATED:20260419T182133Z
DESCRIPTION:Event details: https://xrboston.org/action/general-meeting-jul
 y-2022/\n\nPlease join us at our next General Meeting! We’ll be convenin
 g in Boston Common at 1pm on Sunday\, July 31st. There will be free food (
 including vegan and gluten free options)\, games\, activities\, news\, and
  space for joy in community.\n\nWhether you’re an old member looking to 
 reintegrate with the rebellion after stepping back due to covid\, new neig
 hbors hoping to meet people nearby with similar interests and ambition\, o
 r anyone in between\, we’d love to have you! We only ask that you RSVP s
 o we can be sure we have enough food.
LAST-MODIFIED:20220721T130232Z
LOCATION:Boston Common at the corner of Beacon St & Charles St
ORGANIZER;CN="Extinction Rebellion Boston":MAILTO:outreach@xrboston.org
URL:https://xrboston.org/action/general-meeting-july-2022/
END:VEVENT
END:VCALENDAR
