BEGIN:VCALENDAR
VERSION:2.0
PRODID:-//Extinction Rebellion Boston//Action//
BEGIN:VEVENT
SUMMARY:XR Boston General Meeting June 2022
DTSTART:20220621T220000Z
DTEND:20220622T000000Z
DTSTAMP:20260421T082759Z
UID:1203@https://xrboston.org
CREATED:20260421T082759Z
DESCRIPTION:Event details: https://xrboston.org/action/general-meeting-jun
 e-2022/\n\nHello Rebels! If you’d like to have the opportunity to learn 
 a little about what XRBoston is working on at the moment\, and meet people
  in your town just as passionate about climate change action as you are\, 
 you can join us at our next General Meeting! We’ll be convening at Bosto
 n Common at 6pm on Tuesday\, June 21st (you’ll find us at the corner of 
 Beacon and Charles St.) There will be free food (including vegan and glute
 n free options)\, games\, activities\, news\, and a special yoga session h
 osted by the one and only [@stevie_downie](https://www.instagram.com/stevi
 e_downie/) \n\nOur primary activity will be Meet Your Neighbor! You’ll g
 et a first taste of XR’s Self Organizing System. It’s a structure desi
 gned to highlight the benefits of non-hierarchical Organizations. You’ll
  break into groups based on location\, to discuss amongst yourselves what 
 you’d like to see your town look like in the future\, and possible means
  for making those dreams a reality!\n\nWhether you’re an old member look
 ing to reintegrate with the rebellion after stepping back due to covid\, n
 ew neighbors hoping to meet people nearby with similar interests and ambit
 ion\, or anyone in between\, we’d love to have you! We only ask that you
  RSVP so we can be sure we have enough food!
LAST-MODIFIED:20220620T002011Z
LOCATION:Boston Common at the corner of Beacon St & Charles St
ORGANIZER;CN="Extinction Rebellion Boston":MAILTO:outreach@xrboston.org
URL:https://xrboston.org/action/general-meeting-june-2022/
END:VEVENT
END:VCALENDAR
