BEGIN:VCALENDAR
VERSION:2.0
PRODID:-//Extinction Rebellion Boston//Action//
BEGIN:VEVENT
SUMMARY:General Meeting!
DTSTART:20231101T220000Z
DTEND:20231102T000000Z
DTSTAMP:20260425T105922Z
UID:1642@https://xrboston.org
CREATED:20260425T105922Z
DESCRIPTION:Event details: https://xrboston.org/action/general-meeting-nov
 ember-1-2023/\n\nCome one\, come all to the next XR Boston General Meeting
 ! This month will feature plenty of socializing\, a debrief from September
 's Week of Rebellion\, and plenty of ideas of how you can take the next st
 ep and help build the movement for No New Fossil Fuel Infrastructure!  \n\
 nVegetarian and vegan food will be provided. If you are able\, vegetarian 
 or vegan sides\, desserts\, or drinks to share are welcome! (Gluten-free c
 ontributions are also appreciated!) \n\nNB: This meeting is at the Communi
 ty Church of Boston\, which doesn't look much like a church\, more like a 
 storefront along Boylston opposite Copley Square. If it's number 565\, you
 've got the right place!
LAST-MODIFIED:20231012T012340Z
LOCATION:Community Church of Boston\, 565 Boylston Street (Copley Square)\
 , Boston
ORGANIZER;CN="Extinction Rebellion Boston":MAILTO:outreach@xrboston.org
URL:https://xrboston.org/action/general-meeting-november-1-2023/
END:VEVENT
END:VCALENDAR
