BEGIN:VCALENDAR
VERSION:2.0
PRODID:-//Extinction Rebellion Boston//Action//
BEGIN:VEVENT
SUMMARY:General Meeting - May 2022
DTSTART:20220511T220000Z
DTEND:20220512T000000Z
DTSTAMP:20260421T102656Z
UID:1158@https://xrboston.org
CREATED:20260421T102656Z
DESCRIPTION:Event details: https://xrboston.org/action/genmtgmay2022/\n\nJ
 oin Extinction Rebellion Boston for our May General Meeting on Wednesday\,
  May 11th at 6 PM in Boston Common!\nThis will be our first chapter-wide m
 eeting following Earth Day's *Freedom from Fossil Fuels Tour*\, and as suc
 h\, is not to be missed! The General Meeting is a primo opportunity to get
  to know your fellow rebels & to plug-in to the appropriate groups within 
 XR\, so we strongly encourage all new & lapsed members to come! \n\nOn Wed
 nesday\, we will do some get-to-know-your-rebels 'speed-dating' as a commu
 nity-building exercise\; we will share news from recent actions\; we will 
 discuss upcoming actions & outreach opportunities\; we will hear from repr
 esentatives of all of XR Boston's working groups\; we will nom on some del
 icious 'za\; and most importantly\, we will end with an obstacle course of
  lawn games\, which EVERYONE is HIGHLY ENCOURAGED to stick around and part
 icipate in!\n\nFood! Fun! Camaraderie! Updates! See you there! RSVP please
  so we know how many to expect.
LAST-MODIFIED:20220507T125545Z
LOCATION:[Boston Common at the corner of Beacon St & Charles St](https://w
 ww.google.com/maps/dir//42.3556309\,-71.068461/@42.3547078\,-71.0685934\,1
 7.28z/data=!4m2!4m1!3e3)
ORGANIZER;CN="Extinction Rebellion Boston":MAILTO:outreach@xrboston.org
URL:https://xrboston.org/action/genmtgmay2022/
END:VEVENT
END:VCALENDAR
