BEGIN:VCALENDAR
VERSION:2.0
PRODID:-//Extinction Rebellion Boston//Action//
BEGIN:VEVENT
SUMMARY:Graffiti Alley Canvass | ORGANIZE EVERYWHERE!
DTSTART:20220402T140000Z
DTEND:20220402T160000Z
DTSTAMP:20260421T212322Z
UID:1111@https://xrboston.org
CREATED:20260421T212322Z
DESCRIPTION:Event details: https://xrboston.org/action/graffiti-alley-canv
 ass/\n\nJoin XR Boston for another unforgettable Outreach x Art Working Gr
 oup Collab! This time\, Outreach will be joining Art for the #DEFUND CLIMA
 TE CHAOS Street Art Project in Graffiti Alley! \n\nMembers of XR Boston Ar
 t WG will be wheatpasting 6 giant #DEFUND CLIMATE CHAOS posters\, and we w
 ill be canvassing the thousands of artists\, volunteers\, and onlookers pr
 esent to recruit for the Freedom from Fossil Fuels Tour on April 22nd!\n\n
 Let's aim to get 100 new rebels signed up to take climate action with XR B
 oston!
LAST-MODIFIED:20220320T233958Z
LOCATION:Graffiti Alley Cambridge\, MA 02139
ORGANIZER;CN="Extinction Rebellion Boston":MAILTO:outreach@xrboston.org
URL:https://xrboston.org/action/graffiti-alley-canvass/
END:VEVENT
END:VCALENDAR
