BEGIN:VCALENDAR
VERSION:2.0
PRODID:-//Extinction Rebellion Boston//Action//
BEGIN:VEVENT
SUMMARY:Green Up - April 13
DTSTART:20240413T160000Z
DTEND:20240413T180000Z
DTSTAMP:20260425T180911Z
UID:1775@https://xrboston.org
CREATED:20260425T180911Z
DESCRIPTION:Event details: https://xrboston.org/action/green-up-roxbury-4-
 2024/\n\nBring your greenest thumb and your brightest smile as we clean an
 d plant a blighted urban area. Seeds will be provided and if you live in t
 he local area you'll get the reward of watching our garden grow in peace a
 nd love and rage.\n\nRain date: Sunday\, April 14
LAST-MODIFIED:20240325T015149Z
LOCATION:Meet at 5 Crawford St Roxbury MA
ORGANIZER;CN="Extinction Rebellion Boston":MAILTO:outreach@xrboston.org
URL:https://xrboston.org/action/green-up-roxbury-4-2024/
END:VEVENT
END:VCALENDAR
