BEGIN:VCALENDAR
VERSION:2.0
PRODID:-//Extinction Rebellion Boston//Action//
BEGIN:VEVENT
SUMMARY:Hanscom Defendants Court Support
DTSTART:20241009T120000Z
DTEND:20241009T140000Z
DTSTAMP:20260425T164654Z
UID:1922@https://xrboston.org
CREATED:20260425T164654Z
DESCRIPTION:Event details: https://xrboston.org/action/hanscom-defendants-
 court-support/\n\n**Come support the defendants at their next court date W
 ednesday\, October 9th at 8AM!** \n\nThere are **21 co-defendants** who we
 re arrested for allegedly taking action against the private jet expansion 
 at Hanscom airport in the Spring. This is the defendants FIFTH court date 
 and an important one\, since the judge denied the proposal to dismiss the 
 two charges against them\, which is unprecendented in Massachusetts for th
 ese charges. It may be one of the last court dates before defendants go to
  trial. \n\n**Help strengthen the fight\, show community support and prese
 nce\, and encourage the best outcomes for the 21 defendants and stopping t
 he expansion of this unjust environmental atrocity! **\n\n*Coalition group
 s welcome!*\n\nCourt starts at 9AM\, but we are gathering at 8. \n\n305 Wa
 lden St\, Concord\, MA 01742\n\nWe will have light breakfast and coffee\, 
 feel free to bring any food items to share!
LAST-MODIFIED:20241004T212453Z
LOCATION:Concord District Court 305 Walden St\, Concord\, MA 01742
ORGANIZER;CN="Extinction Rebellion Boston":MAILTO:outreach@xrboston.org
URL:https://xrboston.org/action/hanscom-defendants-court-support/
END:VEVENT
END:VCALENDAR
