BEGIN:VCALENDAR
VERSION:2.0
PRODID:-//Extinction Rebellion Boston//Action//
BEGIN:VEVENT
SUMMARY:Heading for Extinction (and what to do about it) - Chelsea
DTSTART:20230606T220000Z
DTEND:20230607T000000Z
DTSTAMP:20260421T094600Z
UID:1528@https://xrboston.org
CREATED:20260421T094600Z
DESCRIPTION:Event details: https://xrboston.org/action/heading-for-extinct
 ion-chelsea/\n\nHave you heard about Extinction Rebellion Boston's solidar
 ity actions on the #NoEastieSubstation campaign? \n\nWant to learn more ab
 out XR and how they are using civil disobedience to fight the climate and 
 ecological emergency?\n\nJoin us live\, in person\, as we share the latest
  climate science\, debunk corporate lies about how "the system is working 
 on it\," and invite you to join the movement and help turn the tide. Human
 ity needs you!\n\nGreenRoots is near the Chelsea stop on the Newburyport/R
 ockport Commuter Rail\, also accessible by the SL3 bus line and and a very
  efficient 111 bus connection from Haymarket.
LAST-MODIFIED:20230525T234412Z
LOCATION:90 Everett Ave 3rd fl suite 10\, Chelsea\, MA 02150
ORGANIZER;CN="Extinction Rebellion Boston":MAILTO:outreach@xrboston.org
URL:https://xrboston.org/action/heading-for-extinction-chelsea/
END:VEVENT
END:VCALENDAR
