BEGIN:VCALENDAR
VERSION:2.0
PRODID:-//Extinction Rebellion Boston//Action//
BEGIN:VEVENT
SUMMARY:Heading for Extinction -- Copley Sq & Online
DTSTART:20230409T150000Z
DTEND:20230409T170000Z
DTSTAMP:20260421T121153Z
UID:1445@https://xrboston.org
CREATED:20260421T121153Z
DESCRIPTION:Event details: https://xrboston.org/action/heading-for-extinct
 ion-copley-sq-online/\n\nThis is an Emergency. Scientists say we have ente
 red a period of abrupt climate and ecological breakdown. We have very litt
 le time to avoid societal collapse.\n\nIn our Heading For Extinction Talk\
 , we share the latest climate science\, explain how governments and corpor
 ations are lying to us\, and invite you to join the movement and help turn
  the tide. Humanity needs you! \n\nThis talk will be given live at the Com
 munity Church of Boston\, in Copley Square\, as well as broadcast live on 
 their [Youtube channel ](https://www.youtube.com/channel/UCxzqBfbtvnhNKWmz
 pCm0lIA/videos) and via Zoom.
LAST-MODIFIED:20230331T233907Z
LOCATION:Community Church of Boston\, 565 Boylston St\, Boston MA 02116
ORGANIZER;CN="Extinction Rebellion Boston":MAILTO:outreach@xrboston.org
URL:https://xrboston.org/action/heading-for-extinction-copley-sq-online/
END:VEVENT
END:VCALENDAR
