BEGIN:VCALENDAR
VERSION:2.0
PRODID:-//Extinction Rebellion Boston//Action//
BEGIN:VEVENT
SUMMARY:Heading For Extinction<br>(and What to Do About It)
DTSTART:20210928T000000Z
DTEND:20210928T020000Z
DTSTAMP:20260424T204757Z
UID:916@https://xrboston.org
CREATED:20260424T204757Z
DESCRIPTION:Event details: https://xrboston.org/action/hfe-09-27-21/\n\nWe
  are in the midst of an unprecedented climate crisis and ecological breakd
 own that threatens the continuation of life as we know it: record heat wav
 es\, forest fires\, mass extinction of species\, to name just a few recent
  headlines.\n\nWhere do we fit in? How can and should we face these news? 
 And what comes next?\n\nJoin us to hear about the latest climate and ecolo
 gical science and what current plans mean for our planet. And learn how to
  become part of a global movement of social transformation for a livable f
 uture!\n\nThe presentation will last about an hour (8:00pm to 9:00pm EDT)\
 , with time reserved for discussion afterwards.\n\nThe talk will be presen
 ted [online via Zoom](https://us02web.zoom.us/j/88472763484?pwd=ZTNrQVpvY0
 xjU1o0WTBacjVrb2dpZz09)
LAST-MODIFIED:20210916T095946Z
LOCATION:[Online via Zoom](https://us02web.zoom.us/j/88472763484?pwd=ZTNrQ
 VpvY0xjU1o0WTBacjVrb2dpZz09)
ORGANIZER;CN="Extinction Rebellion Boston":MAILTO:outreach@xrboston.org
URL:https://xrboston.org/action/hfe-09-27-21/
END:VEVENT
END:VCALENDAR
