BEGIN:VCALENDAR
VERSION:2.0
PRODID:-//Extinction Rebellion Boston//Action//
BEGIN:VEVENT
SUMMARY:How To Save The Planet (before it is too late)
DTSTART:20240122T230000Z
DTEND:20240123T010000Z
DTSTAMP:20260425T132813Z
UID:1699@https://xrboston.org
CREATED:20260425T132813Z
DESCRIPTION:Event details: https://xrboston.org/action/hfe-20240122/\n\nTh
 is is an Emergency. Scientists say we have entered a period of abrupt clim
 ate and ecological breakdown. We have very little time to avoid societal c
 ollapse.\n\nIn our "How To Save The Planet" talk\, we share the latest cli
 mate science\, explain how governments and corporations are lying to us\, 
 and invite you to join the movement and help turn the tide. \n\nWe\, Extin
 ction Rebellion Boston\, are people from all kinds of backgrounds. We have
  decided we cannot remain in denial about how serious and urgent the situa
 tion is and we need you to spread the word and take action. Humanity needs
  you!\n\nThe talk will be approximately 1 hour and there will be time for 
 questions afterwards.\n\nWe meet in the Community Room at the West Branch 
 of the Somerville Public Library (left and downstairs at the main entrance
 ).
LAST-MODIFIED:20240120T204033Z
LOCATION:Somerville Public Library West Branch (Davis Square)
ORGANIZER;CN="Extinction Rebellion Boston":MAILTO:outreach@xrboston.org
URL:https://xrboston.org/action/hfe-20240122/
END:VEVENT
END:VCALENDAR
