BEGIN:VCALENDAR
VERSION:2.0
PRODID:-//Extinction Rebellion Boston//Action//
BEGIN:VEVENT
SUMMARY:Heading for Extinction Talk (Arlington)
DTSTART:20260228T193000Z
DTEND:20260228T213000Z
DTSTAMP:20260421T153702Z
UID:2206@https://xrboston.org
CREATED:20260421T153702Z
DESCRIPTION:Event details: https://xrboston.org/action/hfe-arlington-2-26/
 \n\nThis is an Emergency. Scientists say we have entered a period of abrup
 t climate and ecological breakdown. We have very little time to avoid soci
 etal collapse.\n\nIn our Heading for Extinction Talk\, we share the scienc
 e\, explore how governments and corporations are lying to us\, and invite 
 you to join the movement and help turn the tide. Humanity needs you!\n\nTh
 e talk will begin at 2:30 pm. It is located at Robbins Library\, 700 Mass 
 Ave\, Arlington. When you enter the building go downstairs in the Communit
 y Room\, which can be accessed using the elevator.\n\nThe talk is interact
 ive and lasts approximately 1 hour. There will be time for questions and d
 iscussion during and afterwards.
LAST-MODIFIED:20260301T183851Z
LOCATION:Robbins Library\, 700 Massachusetts Ave.\, Arlington\, MA
ORGANIZER;CN="Extinction Rebellion Boston":MAILTO:outreach@xrboston.org
URL:https://xrboston.org/action/hfe-arlington-2-26/
END:VEVENT
END:VCALENDAR
