BEGIN:VCALENDAR
VERSION:2.0
PRODID:-//Extinction Rebellion Boston//Action//
BEGIN:VEVENT
SUMMARY:Heading for Extinction (And What To Do About It) - in person in Ja
 maica Plain
DTSTART:20230515T231500Z
DTEND:20230516T011500Z
DTSTAMP:20260424T012830Z
UID:1514@https://xrboston.org
CREATED:20260424T012830Z
DESCRIPTION:Event details: https://xrboston.org/action/hfe-may15-2023/\n\n
 This is an Emergency. Scientists say we have entered a period of abrupt cl
 imate and ecological breakdown. We have very little time to avoid societal
  collapse.\n\nJoin us live\, in person\, as we share the latest climate sc
 ience\, explain how governments and corporations are lying to us\, and inv
 ite you to join the movement and help turn the tide.** Humanity needs you!
 **\n\nSpontaneous Celebrations is near the Stony Brook T stop.
LAST-MODIFIED:20230515T114026Z
LOCATION:Spontaneous Celebrations\, 45 Danforth Street\, Jamaica Plain
ORGANIZER;CN="Extinction Rebellion Boston":MAILTO:outreach@xrboston.org
URL:https://xrboston.org/action/hfe-may15-2023/
END:VEVENT
END:VCALENDAR
