BEGIN:VCALENDAR
VERSION:2.0
PRODID:-//Extinction Rebellion Boston//Action//
BEGIN:VEVENT
SUMMARY:HEADING FOR EXTINCTION (AND WHAT TO DO ABOUT IT)
DTSTART:20231026T220000Z
DTEND:20231027T000000Z
DTSTAMP:20260421T232406Z
UID:1635@https://xrboston.org
CREATED:20260421T232406Z
DESCRIPTION:Event details: https://xrboston.org/action/hfe-oct26-2023/\n\n
 This is an Emergency. Scientists say we have entered a period of abrupt cl
 imate and ecological breakdown. We have very little time to avoid societal
  collapse.\n\nIn our Heading For Extinction Talk\, we share the latest cli
 mate science\, explain how governments and corporations are lying to us\, 
 and invite you to join the movement and help turn the tide. \n\nHumanity n
 eeds you!\n\nThe talk will be approximately 1 hour and there will be time 
 for questions afterwards.\n\nLocation: Community Room\, Main Branch of the
  Cambridge Public Library
LAST-MODIFIED:20231020T223804Z
LOCATION:Cambridge Public Library\, 449 Broadway
ORGANIZER;CN="Extinction Rebellion Boston":MAILTO:outreach@xrboston.org
URL:https://xrboston.org/action/hfe-oct26-2023/
END:VEVENT
END:VCALENDAR
