BEGIN:VCALENDAR
VERSION:2.0
PRODID:-//Extinction Rebellion Boston//Action//
BEGIN:VEVENT
SUMMARY:Heading for Extinction (and What to Do About It)
DTSTART:20251001T220000Z
DTEND:20251002T000000Z
DTSTAMP:20260421T212733Z
UID:2151@https://xrboston.org
CREATED:20260421T212733Z
DESCRIPTION:Event details: https://xrboston.org/action/hfe-talk-oct1/\n\nT
 his is an Emergency. Scientists say we have entered a period of abrupt cli
 mate and ecological breakdown. We have very little time to avoid societal 
 collapse.\n\nIn our Heading for Extinction Talk\, we share the science\, e
 xplain how governments and corporations are lying to us\, and invite you t
 o join the movement and help turn the tide. **Humanity needs you!\n**\n\nT
 he talk will begin at 6:30pm. Vegan food will be served at 6pm.\n\nThe tal
 k will be approximately 1 hour and there will be time for questions afterw
 ards.\n\nLocation note: The church isn't in a traditional church building.
  The entrance is between Chick-Fil-A and a liquor store. Take the stairs o
 r elevator to the second floor.
LAST-MODIFIED:20250929T120631Z
LOCATION:Community Church of Boston\, 565 Boylston St\, Copley Sq\, Boston
  MA
ORGANIZER;CN="Extinction Rebellion Boston":MAILTO:outreach@xrboston.org
URL:https://xrboston.org/action/hfe-talk-oct1/
END:VEVENT
END:VCALENDAR
