BEGIN:VCALENDAR
VERSION:2.0
PRODID:-//Extinction Rebellion Boston//Action//
BEGIN:VEVENT
SUMMARY:Heading for Extinction (and what to do about it)
DTSTART:20220928T220000Z
DTEND:20220929T000000Z
DTSTAMP:20260421T055143Z
UID:1299@https://xrboston.org
CREATED:20260421T055143Z
DESCRIPTION:Join online: <a href="https://actionnetwork.org/forms/xrdc-hea
 ding-for-extinction-talk/">https://actionnetwork.org/forms/xrdc-heading-fo
 r-extinction-talk/</a>\n\nEvent details: <a href="https://xrboston.org/act
 ion/hfe_sept282022/">https://xrboston.org/action/hfe_sept282022/</a>\n\nTh
 is is an Emergency. Scientists believe we have entered a period of abrupt 
 climate breakdown. We have very little time to avoid societal collapse. In
  this Heading For Extinction talk\, we share the latest climate science\, 
 explain how governments and corporations are lying to us\, and invite you 
 to join the movement and help turn the tide. Humanity needs you!\n\nThis e
 vent is being hosted by XRDC. To get the link to the talk\, [register here
 ](https://actionnetwork.org/forms/xrdc-heading-for-extinction-talk/) and i
 t will be sent to you.\n\n-::~:~::~:~:~:~:~:~:~:~:~:~:~:~:~:~:~:~:~:~:~:~:
 ~:~:~:~:~:~:~:~:~:~:~:~:~:~:~:~::~:~::-\nDo not edit this section of the d
 escription.\n\nThis event has a video call.\nJoin: https://actionnetwork.o
 rg/forms/xrdc-heading-for-extinction-talk/\n\nView your event at https://x
 rboston.org/action/hfe_sept282022/\n-::~:~::~:~:~:~:~:~:~:~:~:~:~:~:~:~:~:
 ~:~:~:~:~:~:~:~:~:~:~:~:~:~:~:~:~:~:~:~:~::~:~::-
LAST-MODIFIED:20220923T153808Z
LOCATION:Online event
ORGANIZER;CN="Extinction Rebellion Boston":MAILTO:outreach@xrboston.org
URL:https://xrboston.org/action/hfe_sept282022/
END:VEVENT
END:VCALENDAR
