BEGIN:VCALENDAR
VERSION:2.0
PRODID:-//Extinction Rebellion Boston//Action//
BEGIN:VEVENT
SUMMARY:High Tide and High Time for Climate Action!
DTSTART:20241019T161500Z
DTEND:20241019T181500Z
DTSTAMP:20260423T234235Z
UID:1923@https://xrboston.org
CREATED:20260423T234235Z
DESCRIPTION:Event details: https://xrboston.org/action/high-tide-and-high-
 time-for-climate-action/\n\nSaturday October 19 will be a Wicked High King
  Tide event\, where the Boston Long Wharf will see excessive flooding brou
 ght on by the climate crisis. Join XR Boston\, Stop Private Jet Expansion\
 , Beyond Plastics\, 350 Mass\, Mothers Out Front\, and other climate organ
 izations to demand that our government take immediate action to stop this 
 crisis before it's too late. We'll dance in the water to "Thriller" by Mic
 hael Jackson. We'll be joined by speakers from across the climate movement
 \, and the Red Rebels will make an appearance.\n\nIt's High Tide and High 
 Time for Climate Action. Come see for yourself what kind of flooding Bosto
 n is already experiencing! Signs and will be provided or feel free to brin
 g your own. The climate crisis is SCARY! Wear all black\, black and orange
 \, or dress as "The Dead" - Ghosts or Skeletons. If you don't have a costu
 me\, don't worry! Wear all black and we'll give you a skull mask.\n\nWear 
 rain boots or shoes that can get wet - The tide can get up to knee deep an
 d we'll stand together while the tide comes in. There will also be a dry a
 rea where you can stand if you want to stay dry.
LAST-MODIFIED:20241016T160654Z
LOCATION:Boston’s Long Wharf
ORGANIZER;CN="Extinction Rebellion Boston":MAILTO:outreach@xrboston.org
URL:https://xrboston.org/action/high-tide-and-high-time-for-climate-action
 /
END:VEVENT
END:VCALENDAR
