BEGIN:VCALENDAR
VERSION:2.0
PRODID:-//Extinction Rebellion Boston//Action//
BEGIN:VEVENT
SUMMARY:High Tide and High Time for Climate Action!
DTSTART:20251009T163000Z
DTEND:20251009T183000Z
DTSTAMP:20260421T213149Z
UID:2139@https://xrboston.org
CREATED:20260421T213149Z
DESCRIPTION:Event details: https://xrboston.org/action/high-tide-and-high-
 time-for-climate-action-2025/\n\nThursday October 9 will be a Wicked High 
 Tide event\, where the Boston Long Wharf will see excessive flooding exace
 rbated by the climate crisis. Join XR Boston\, Stop Private Jet Expansion 
 at Hanscom or Anywhere\, Beyond Plastics\, Scientist Rebellion\, the Red R
 ebels\, and other climate organizations for a lunchtime demonstration to d
 emand that our government take immediate action to stop this crisis before
  it's too late.\n\nWe'll dance in the water and sing climate-themed sea sh
 anties\, we'll be joined by speakers from across the climate and labor mov
 ements\, and the Red Rebels will make an appearance. It's High Tide and Hi
 gh Time for Climate Action. Come see for yourself what kind of flooding Bo
 ston is already experiencing! Signs and will be provided or feel free to b
 ring your own.\n\nThe rising waters and other signs of crisis will affect 
 every profession\, so we encourage attendees to dress as "careers". Doctor
 \, construction worker\, businessperson\, train conductor\, etc. Wear rain
  boots or shoes that can get wet - The tide can get up to knee deep and we
 'll stand together while the tide comes in. There will also be a dry area 
 where you can stand if you want to stay dry.
LAST-MODIFIED:20251005T165421Z
LOCATION:Boston's Long Wharf
ORGANIZER;CN="Extinction Rebellion Boston":MAILTO:outreach@xrboston.org
URL:https://xrboston.org/action/high-tide-and-high-time-for-climate-action
 -2025/
END:VEVENT
END:VCALENDAR
