BEGIN:VCALENDAR
VERSION:2.0
PRODID:-//Extinction Rebellion Boston//Action//
BEGIN:VEVENT
SUMMARY:Training Series: How to Present XR to Crowds
DTSTART:20241204T230000Z
DTEND:20241205T010000Z
DTSTAMP:20260426T032710Z
UID:1874@https://xrboston.org
CREATED:20260426T032710Z
DESCRIPTION:Join online: <a href="https://us06web.zoom.us/meeting/register
 /tZcpcO2qqzwtHdfncBRf2uAUXDRQ173IpdlS">https://us06web.zoom.us/meeting/reg
 ister/tZcpcO2qqzwtHdfncBRf2uAUXDRQ173IpdlS</a>\n\nEvent details: <a href="
 https://xrboston.org/action/how-to-present-xr-to-crowds-10-30-24/">https:/
 /xrboston.org/action/how-to-present-xr-to-crowds-10-30-24/</a>\n\n**NEW DA
 TE: Wed 12/4 at 6 pm**\n\n**This training will last 90 minutes.**\n\nAre y
 ou curious to learn more about different support roles for Extinction Rebe
 llion Boston?\n\n**How to Present XR to Crowds:** This session will examin
 e: what are XR's key positions on addressing the climate emergency?  How c
 an I be an effective spokesperson for Extinction Rebellion? What material 
 is engaging and makes people want to join our movement?\n\nOther sessions 
 in this training series include: \n\n* Police Liaison: Conveys information
  and demands between the police and the group before/during actions. Helps
  to keep the police calm and reminds them of our non-violence. \n\n* Arres
 t support: Provides direct personal support for arrestable people. They ha
 ve all relevant personal information\, will take the call from the police 
 station\, provide support at the police station and makes sure everyone ge
 ts home safely. \n\n* Peacekeeping & deescalation: Help guide people where
  to go and keep protest safe by blocking traffic block of streets for us a
 long the parade route.\n\n-::~:~::~:~:~:~:~:~:~:~:~:~:~:~:~:~:~:~:~:~:~:~:
 ~:~:~:~:~:~:~:~:~:~:~:~:~:~:~:~::~:~::-\nDo not edit this section of the d
 escription.\n\nThis event has a video call.\nJoin: https://us06web.zoom.us
 /meeting/register/tZcpcO2qqzwtHdfncBRf2uAUXDRQ173IpdlS\n\nView your event 
 at https://xrboston.org/action/how-to-present-xr-to-crowds-10-30-24/\n-::~
 :~::~:~:~:~:~:~:~:~:~:~:~:~:~:~:~:~:~:~:~:~:~:~:~:~:~:~:~:~:~:~:~:~:~:~:~:
 ~::~:~::-
LAST-MODIFIED:20241203T134257Z
LOCATION:Online event
ORGANIZER;CN="Extinction Rebellion Boston":MAILTO:outreach@xrboston.org
URL:https://xrboston.org/action/how-to-present-xr-to-crowds-10-30-24/
END:VEVENT
END:VCALENDAR
