BEGIN:VCALENDAR
VERSION:2.0
PRODID:-//Extinction Rebellion Boston//Action//
BEGIN:VEVENT
SUMMARY:Training Series: How to Present XR to Crowds
DTSTART:20231213T233000Z
DTEND:20231214T013000Z
DTSTAMP:20260425T121803Z
UID:1649@https://xrboston.org
CREATED:20260425T121803Z
DESCRIPTION:Join online: <a href="https://us06web.zoom.us/meeting/register
 /tZAsdu6orzMiGdSxrUiGZ2X4iryI-kwRkg79">https://us06web.zoom.us/meeting/reg
 ister/tZAsdu6orzMiGdSxrUiGZ2X4iryI-kwRkg79</a>\n\nEvent details: <a href="
 https://xrboston.org/action/how-to-present-xr-to-crowds-12-13-2023/">https
 ://xrboston.org/action/how-to-present-xr-to-crowds-12-13-2023/</a>\n\n**Th
 is training will last 90 minutes.**\n\nAre you curious to learn more about
  different support roles for Extinction Rebellion Boston?\n\n**How to Pres
 ent XR to Crowds:** This session will examine: what are XR's key positions
  on addressing the climate emergency?  How can I be an effective spokesper
 son for Extinction Rebellion? What material is engaging and makes people w
 ant to join our movement?\n\nOther sessions in this training series includ
 e: \n\n* Police Liaison: Conveys information and demands between the polic
 e and the group before/during actions. Helps to keep the police calm and r
 eminds them of our non-violence. \n\n* Arrest support: Provides direct per
 sonal support for arrestable people. They have all relevant personal infor
 mation\, will take the call from the police station\, provide support at t
 he police station and makes sure everyone gets home safely. \n\n* Peacekee
 ping & deescalation: Help guide people where to go and keep protest safe b
 y blocking traffic block of streets for us along the parade route.\n\n-::~
 :~::~:~:~:~:~:~:~:~:~:~:~:~:~:~:~:~:~:~:~:~:~:~:~:~:~:~:~:~:~:~:~:~:~:~:~:
 ~::~:~::-\nDo not edit this section of the description.\n\nThis event has 
 a video call.\nJoin: https://us06web.zoom.us/meeting/register/tZAsdu6orzMi
 GdSxrUiGZ2X4iryI-kwRkg79\n\nView your event at https://xrboston.org/action
 /how-to-present-xr-to-crowds-12-13-2023/\n-::~:~::~:~:~:~:~:~:~:~:~:~:~:~:
 ~:~:~:~:~:~:~:~:~:~:~:~:~:~:~:~:~:~:~:~:~:~:~:~::~:~::-
LAST-MODIFIED:20231016T161603Z
LOCATION:Online event
ORGANIZER;CN="Extinction Rebellion Boston":MAILTO:outreach@xrboston.org
URL:https://xrboston.org/action/how-to-present-xr-to-crowds-12-13-2023/
END:VEVENT
END:VCALENDAR
