BEGIN:VCALENDAR
VERSION:2.0
PRODID:-//Extinction Rebellion Boston//Action//
BEGIN:VEVENT
SUMMARY:Training Series: How to Talk to the Media
DTSTART:20240117T233000Z
DTEND:20240118T013000Z
DTSTAMP:20260425T133731Z
UID:1650@https://xrboston.org
CREATED:20260425T133731Z
DESCRIPTION:Join online: <a href="https://us06web.zoom.us/meeting/register
 /tZIvd-qspjsuH91kkgGPXCu6iSW6nvv8mh0_">https://us06web.zoom.us/meeting/reg
 ister/tZIvd-qspjsuH91kkgGPXCu6iSW6nvv8mh0_</a>\n\nEvent details: <a href="
 https://xrboston.org/action/how-to-talk-to-the-media-01-17-24/">https://xr
 boston.org/action/how-to-talk-to-the-media-01-17-24/</a>\n\n**This trainin
 g will last 90 minutes.**\n\nAre you curious to learn more about different
  support roles for Extinction Rebellion Boston?\n\n**How to Talk to the Me
 dia:** This session will examine: what does the media want to know?  How c
 an I be an effective spokesperson for Extinction Rebellion? Is it possible
  they would talk to me? How can I craft a good message?\n\nParticipants wi
 ll explore: 1) what messages XR Boston actions are striving to communicate
 \, 2) how to construct your own story and convey it public. The training w
 ill end with role playing to help hone these newly acquired skills.\n\nOth
 er sessions in this training series include: \n\n* Police Liaison: Conveys
  information and demands between the police and the group before/during ac
 tions. Helps to keep the police calm and reminds them of our non-violence.
  \n\n* Arrest support: Provides direct personal support for arrestable peo
 ple. They have all relevant personal information\, will take the call from
  the police station\, provide support at the police station and makes sure
  everyone gets home safely. \n\n* Peacekeeping & deescalation: Help guide 
 people where to go and keep protest safe by blocking traffic block of stre
 ets for us along the parade route.\n\n-::~:~::~:~:~:~:~:~:~:~:~:~:~:~:~:~:
 ~:~:~:~:~:~:~:~:~:~:~:~:~:~:~:~:~:~:~:~:~:~::~:~::-\nDo not edit this sect
 ion of the description.\n\nThis event has a video call.\nJoin: https://us0
 6web.zoom.us/meeting/register/tZIvd-qspjsuH91kkgGPXCu6iSW6nvv8mh0_\n\nView
  your event at https://xrboston.org/action/how-to-talk-to-the-media-01-17-
 24/\n-::~:~::~:~:~:~:~:~:~:~:~:~:~:~:~:~:~:~:~:~:~:~:~:~:~:~:~:~:~:~:~:~:~
 :~:~:~:~:~::~:~::-
LAST-MODIFIED:20231016T161329Z
LOCATION:Online event
ORGANIZER;CN="Extinction Rebellion Boston":MAILTO:outreach@xrboston.org
URL:https://xrboston.org/action/how-to-talk-to-the-media-01-17-24/
END:VEVENT
END:VCALENDAR
