BEGIN:VCALENDAR
VERSION:2.0
PRODID:-//Extinction Rebellion Boston//Action//
BEGIN:VEVENT
SUMMARY:[VIRTUAL and RESCHEDULED] Training Series: How to Write a Press Re
 lease
DTSTART:20240410T223000Z
DTEND:20240411T003000Z
DTSTAMP:20260425T180911Z
UID:1651@https://xrboston.org
CREATED:20260425T180911Z
DESCRIPTION:Join online: <a href="https://us06web.zoom.us/j/81368321988?pw
 d=5ejqcLtzQCWv5E4edQhdaCxMayvL91.1">https://us06web.zoom.us/j/81368321988?
 pwd=5ejqcLtzQCWv5E4edQhdaCxMayvL91.1</a>\n\nEvent details: <a href="https:
 //xrboston.org/action/how-to-write-a-press-release-02-25-24/">https://xrbo
 ston.org/action/how-to-write-a-press-release-02-25-24/</a>\n\n**This works
 hop is now virtual and rescheduled from February to April\, it was in-pers
 on before. [RSVP here](https://us06web.zoom.us/j/81368321988?pwd=5ejqcLtzQ
 CWv5E4edQhdaCxMayvL91.1)**\n\nAre you curious to learn more about differen
 t support roles for Extinction Rebellion Boston?\n\n**How to Write a Press
  Release:** This session will be a hands on practical for writing press re
 leases. In advance of this training\, we will send out a recorded presenta
 tion about how to write a press release. On the day of this workshop we wi
 ll give you mock action + references so you can write your own PR. At the 
 end of the workshop we present the PRs and offer constructive feedback!\n\
 nOther sessions in this training series include: \n\n* Police Liaison: Con
 veys information and demands between the police and the group before/durin
 g actions. Helps to keep the police calm and reminds them of our non-viole
 nce. \n\n* Arrest support: Provides direct personal support for arrestable
  people. They have all relevant personal information\, will take the call 
 from the police station\, provide support at the police station and makes 
 sure everyone gets home safely. \n\n* Peacekeeping & deescalation: Help gu
 ide people where to go and keep protest safe by blocking traffic block of 
 streets for us along the parade route.\n\n-::~:~::~:~:~:~:~:~:~:~:~:~:~:~:
 ~:~:~:~:~:~:~:~:~:~:~:~:~:~:~:~:~:~:~:~:~:~:~:~::~:~::-\nDo not edit this 
 section of the description.\n\nThis event has a video call.\nJoin: https:/
 /us06web.zoom.us/j/81368321988?pwd=5ejqcLtzQCWv5E4edQhdaCxMayvL91.1\n\nVie
 w your event at https://xrboston.org/action/how-to-write-a-press-release-0
 2-25-24/\n-::~:~::~:~:~:~:~:~:~:~:~:~:~:~:~:~:~:~:~:~:~:~:~:~:~:~:~:~:~:~:
 ~:~:~:~:~:~:~:~::~:~::-
LAST-MODIFIED:20240405T182925Z
LOCATION:Online event
ORGANIZER;CN="Extinction Rebellion Boston":MAILTO:outreach@xrboston.org
URL:https://xrboston.org/action/how-to-write-a-press-release-02-25-24/
END:VEVENT
END:VCALENDAR
