BEGIN:VCALENDAR
VERSION:2.0
PRODID:-//Extinction Rebellion Boston//Action//
BEGIN:VEVENT
SUMMARY:[Solidarity] Hyde Park Avenue Safe Streets Rally
DTSTART:20250412T170000Z
DTEND:20250412T190000Z
DTSTAMP:20260424T043603Z
UID:2059@https://xrboston.org
CREATED:20260424T043603Z
DESCRIPTION:Event details: https://xrboston.org/action/hyde-park-ave-safe-
 streets-rally-2025/\n\n[Solidarity action along with XR JP Affinity Group]
 \n\nChildren\, older adults\, and all neighbors deserve to be able to walk
 \, roll\, bike\, bus\, and drive safely in roads that accommodate all tran
 sit modes and abilities.\n\nWe have been promised immediate safety improve
 ments to Hyde Park Ave.  Specifically\, repaving and redesigning HPA betwe
 en the Arborway and Ukraine\, as well as improved crossings at Eldridge St
 \, Pagel Field\, and Cummins Highway. ** On Saturday\, April 12\, we will 
 rally with elected officials and advocacy groups to demand those improveme
 nts happen!**  **Please join us at Forest Hills Station at 1pm on Saturday
 \, April 12th.  Bring your voice\, your questions and your ideas for BTD.*
 *
LAST-MODIFIED:20250406T143715Z
LOCATION:Forest Hills Station (Hyde Park Ave. side)
ORGANIZER;CN="Extinction Rebellion Boston":MAILTO:outreach@xrboston.org
URL:https://xrboston.org/action/hyde-park-ave-safe-streets-rally-2025/
END:VEVENT
END:VCALENDAR
