BEGIN:VCALENDAR
VERSION:2.0
PRODID:-//Extinction Rebellion Boston//Action//
BEGIN:VEVENT
SUMMARY:(CANCELLED) Jamaica Plain Art Build for the Week of Rebellion
DTSTART:20220818T220000Z
DTEND:20220819T000000Z
DTSTAMP:20260425T161016Z
UID:1251@https://xrboston.org
CREATED:20260425T161016Z
DESCRIPTION:Event details: https://xrboston.org/action/jamaica-plain-art-b
 uild-for-the-week-of-rebwl-2/\n\nThis event has been cancelled.
LAST-MODIFIED:20220817T175811Z
LOCATION:CANCELLED
ORGANIZER;CN="Extinction Rebellion Boston":MAILTO:outreach@xrboston.org
URL:https://xrboston.org/action/jamaica-plain-art-build-for-the-week-of-re
 bwl-2/
END:VEVENT
END:VCALENDAR
