BEGIN:VCALENDAR
VERSION:2.0
PRODID:-//Extinction Rebellion Boston//Action//
BEGIN:VEVENT
SUMMARY:Heading for Extinction Talk (Jamaica Plain)
DTSTART:20260110T200000Z
DTEND:20260110T220000Z
DTSTAMP:20260421T171724Z
UID:2194@https://xrboston.org
CREATED:20260421T171724Z
DESCRIPTION:Event details: https://xrboston.org/action/jphfe-01-26/\n\nThi
 s is an Emergency. Scientists say we have entered a period of abrupt clima
 te and ecological breakdown. We have very little time to avoid societal co
 llapse.\n\nIn our Heading for Extinction Talk\, we share the science\, exp
 lore how governments and corporations are lying to us\, and invite you to 
 join the movement and help turn the tide. Humanity needs you!\n\nThe talk 
 will begin at 3:15pm. Come at 3:00 for plant-based snacks and hot drinks! 
 (Bonus points if you bring your own mug \;) \n\nThe talk is interactive an
 d lasts approximately 1 hour. There will be time for questions and discuss
 ion during and afterwards.
LAST-MODIFIED:20260111T190109Z
LOCATION:Jamaica Plain Library\, 30 South Street\, Jamaica Plain\, 02130
ORGANIZER;CN="Extinction Rebellion Boston":MAILTO:outreach@xrboston.org
URL:https://xrboston.org/action/jphfe-01-26/
END:VEVENT
END:VCALENDAR
