BEGIN:VCALENDAR
VERSION:2.0
PRODID:-//Extinction Rebellion Boston//Action//
BEGIN:VEVENT
SUMMARY:Light Boxes Art Build at Artisan's Asylum
DTSTART:20250301T170000Z
DTEND:20250301T190000Z
DTSTAMP:20260423T004555Z
UID:2004@https://xrboston.org
CREATED:20260423T004555Z
DESCRIPTION:Event details: https://xrboston.org/action/light-boxes-art-bui
 ld-at-artisans-asylum/\n\nDrop in to Artisan's Asylum between noon and 3pm
  to help us make light boxes for the Climate Crisis Cabaret!\n\nWe will be
  cutting out and assembling boxes\, installing art in the boxes\, and maki
 ng new art.  We supply the materials\, you bring your enthusiasm. Art skil
 ls not necessary!\n\nFeel free to wear a mask\, but they are not required.
  If you are feeling unwell\, please stay home and join us at a future art 
 build.
LAST-MODIFIED:20250207T183124Z
LOCATION:[Artisans Asylum](https://maps.app.goo.gl/CZn6DMd2hyYoBFFR8)
ORGANIZER;CN="Extinction Rebellion Boston":MAILTO:outreach@xrboston.org
URL:https://xrboston.org/action/light-boxes-art-build-at-artisans-asylum/
END:VEVENT
END:VCALENDAR
