BEGIN:VCALENDAR
VERSION:2.0
PRODID:-//Extinction Rebellion Boston//Action//
BEGIN:VEVENT
SUMMARY:Light Boxes Art Build at Artisan's Asylum
DTSTART:20250323T160000Z
DTEND:20250323T180000Z
DTSTAMP:20260423T004113Z
UID:2032@https://xrboston.org
CREATED:20260423T004113Z
DESCRIPTION:Event details: https://xrboston.org/action/light-boxes-art-bui
 ld-at-artisans-asylum2/\n\nDrop in to Artisan's Asylum between 12pm and 2p
 m to help us finish making light boxes for the [Climate Crisis Cabaret](ht
 tps://xrboston.org/action/solidarity-climate-crisis-cabaret/)!\n\nWe suppl
 y the materials\, you bring your enthusiasm. Art skills not necessary!\n\n
 Feel free to wear a mask\, but they are not required. If you are feeling u
 nwell\, please stay home and join us at a future art build.
LAST-MODIFIED:20250313T181039Z
LOCATION:[Artisans Asylum](https://maps.app.goo.gl/CZn6DMd2hyYoBFFR8)
ORGANIZER;CN="Extinction Rebellion Boston":MAILTO:outreach@xrboston.org
URL:https://xrboston.org/action/light-boxes-art-build-at-artisans-asylum2/
END:VEVENT
END:VCALENDAR
