BEGIN:VCALENDAR
VERSION:2.0
PRODID:-//Extinction Rebellion Boston//Action//
BEGIN:VEVENT
SUMMARY:Look Up\, Step Up
DTSTART:20220714T220000Z
DTEND:20220715T000000Z
DTSTAMP:20260419T182001Z
UID:1206@https://xrboston.org
CREATED:20260419T182001Z
DESCRIPTION:Event details: https://xrboston.org/action/look-up-step-up-7-1
 4-22/\n\nJoin members of **Extinction Rebellion** to learn about our **pla
 n** to confront the climate and ecological emergency! \n\n"The alarm bells
  are deafening\, and the evidence is irrefutable: greenhouse-gas emissions
  from fossil-fuel burning and deforestation are choking our planet and put
 ting billions of people at immediate risk ... if we combine forces now\, w
 e can avert climate catastrophe." -- UN Secretary General António Guterre
 s\n\nIt's easy to feel overwhelmed by the scale of what we are facing. Tha
 t is why we need each and every one of us to come together while there is 
 still time to act. \n\nWe are inviting you to open your hearts and explore
  new possibilities. It's time to stop feeling powerless and alone and get 
 to know other local people who want to make a difference\, too.\n\nThe tal
 k will be about one hour and there will be time for Q&A. \n\nThe talk will
  be held at the Boston Public Library\, Jamaica Plain Branch\, 30 South St
 .\, Jamaica Plain
LAST-MODIFIED:20220611T135039Z
LOCATION:Boston Public Library\, Jamaica Plain Branch
ORGANIZER;CN="Extinction Rebellion Boston":MAILTO:outreach@xrboston.org
URL:https://xrboston.org/action/look-up-step-up-7-14-22/
END:VEVENT
END:VCALENDAR
