BEGIN:VCALENDAR
VERSION:2.0
PRODID:-//Extinction Rebellion Boston//Action//
BEGIN:VEVENT
SUMMARY:Look Up\, Step Up - East Boston
DTSTART:20230711T224500Z
DTEND:20230712T004500Z
DTSTAMP:20260425T160852Z
UID:1538@https://xrboston.org
CREATED:20260425T160852Z
DESCRIPTION:Event details: https://xrboston.org/action/look-up-step-up-eas
 tie/\n\nHave you heard about Extinction Rebellion Boston's solidarity acti
 ons on the #NoEastieSubstation campaign? \n\nWant to learn more about XR a
 nd how we are using civil disobedience to fight the climate and ecological
  emergency?\n\nJoin us at Cafe Iterum live\, in person\, as we share the l
 atest climate science\, debunk corporate lies about how "the system is wor
 king on it\," and invite you to join the movement and help turn the tide. 
 Humanity needs you!\n\nCafe Iterum is a zero-minute walk from Maverick Sta
 tion on the Blue line\, also accessible by  buses 114\, 116\, 117\, 120\, 
 121\, with an adjacent Blue Bike dock and bike rack.
LAST-MODIFIED:20230709T235015Z
LOCATION:Cafe Iterum\, 11 Father Jacobbe Rd\, East Boston\, MA 02128
ORGANIZER;CN="Extinction Rebellion Boston":MAILTO:outreach@xrboston.org
URL:https://xrboston.org/action/look-up-step-up-eastie/
END:VEVENT
END:VCALENDAR
