BEGIN:VCALENDAR
VERSION:2.0
PRODID:-//Extinction Rebellion Boston//Action//
BEGIN:VEVENT
SUMMARY:Love the Planet Party & Standout
DTSTART:20250222T190000Z
DTEND:20250222T210000Z
DTSTAMP:20260422T104253Z
UID:2005@https://xrboston.org
CREATED:20260422T104253Z
DESCRIPTION:Event details: https://xrboston.org/action/love-the-planet-par
 ty/\n\nJoin us on Saturday\, Feb. 22 at 2pm for a Love the Planet Party! W
 ith so much malice directed towards our neighbors and the natural world\, 
 let's push past the hate that's out there and come together in LOVE. With 
 love for the planet and love for fellow humans\, we'll join together at Th
 e Embrace sculpture on Boston Common (across from 151 Tremont St). The Mar
 tin Luther King Jr. and Coretta Scott King sculpture and its important rem
 inder of the power of love and collective action will make for an inspirin
 g backdrop. \n\nOur Love the Planet Party will include love-themed photo f
 rames\, wearable candy hearts (with Earth-loving messages)\, and cupid win
 gs for a few of us to wear for sharing our "Rebel for Life\, Rebel for Lov
 e" message to passersby. There'll be music and each other's company to enj
 oy\, and there's a good chance there'll be Love Songs for the Planet to si
 ng as well. You are welcome to bring posters with your own messages of lov
 e too! \n\nAfter an hour or so we'll head to a local restaurant(s) to cont
 inue to unite in love for the planet and fellow humans\, and treat ourselv
 es to tasty food and beverages!\n\nSnow/rain date: Sun. Feb. 23\n\nMake su
 re that you sign up for the event so you can receive updates.
LAST-MODIFIED:20250218T003244Z
LOCATION:The Embrace Sculpture\, Boston Common\, Across from 151 Tremont S
 t
ORGANIZER;CN="Extinction Rebellion Boston":MAILTO:outreach@xrboston.org
URL:https://xrboston.org/action/love-the-planet-party/
END:VEVENT
END:VCALENDAR
