BEGIN:VCALENDAR
VERSION:2.0
PRODID:-//Extinction Rebellion Boston//Action//
BEGIN:VEVENT
SUMMARY:March Climate Grief Circle
DTSTART:20240327T223000Z
DTEND:20240328T003000Z
DTSTAMP:20260425T164700Z
UID:1774@https://xrboston.org
CREATED:20260425T164700Z
DESCRIPTION:Join online: <a href="https://us02web.zoom.us/meeting/register
 /tZYqcequpjopEtfM6YJN0FpeFbQWRe8lbKoY">https://us02web.zoom.us/meeting/reg
 ister/tZYqcequpjopEtfM6YJN0FpeFbQWRe8lbKoY</a>\n\nEvent details: <a href="
 https://xrboston.org/action/march-climate-grief-circle-2024/">https://xrbo
 ston.org/action/march-climate-grief-circle-2024/</a>\n\n**Please RSVP thro
 ugh this [zoom link](https://us02web.zoom.us/meeting/register/tZYqcequpjop
 EtfM6YJN0FpeFbQWRe8lbKoY)**\n\nYou are welcome in this monthly circle\, wh
 ere we contact and work with our climate grief. We are all experiencing so
  many losses because of the climate crisis\, including extinction\, displa
 cement\, loss of livelihood\, and irrevocable changes to beloved places. O
 ur resulting grief can show up in many different ways\, such as numbness\,
  bitterness\, and despair. However your grief shows up\, you are welcome i
 n this space. We believe that working with grief requires support\, and th
 at is what we aim to provide. What’s more\, we trust that when we engage
  with our grief in a supported way\, we find that we no longer need to be 
 afraid of it\, and that frees us up to show up in service and love for the
  communities that we hold dear. \n\nWith gentle facilitation and simple pr
 ompts\, we will move through reflection and sharing that will get us out o
 f our heads and into our hearts\, where our grief and our love for this wo
 rld reside. This 75-minute circle is open to all\, whether you are a seaso
 ned rebel or brand-new to XR.\n\n-::~:~::~:~:~:~:~:~:~:~:~:~:~:~:~:~:~:~:~
 :~:~:~:~:~:~:~:~:~:~:~:~:~:~:~:~:~:~:~::~:~::-\nDo not edit this section o
 f the description.\n\nThis event has a video call.\nJoin: https://us02web.
 zoom.us/meeting/register/tZYqcequpjopEtfM6YJN0FpeFbQWRe8lbKoY\n\nView your
  event at https://xrboston.org/action/march-climate-grief-circle-2024/\n-:
 :~:~::~:~:~:~:~:~:~:~:~:~:~:~:~:~:~:~:~:~:~:~:~:~:~:~:~:~:~:~:~:~:~:~:~:~:
 ~:~::~:~::-
LAST-MODIFIED:20240323T190111Z
LOCATION:Online event
ORGANIZER;CN="Extinction Rebellion Boston":MAILTO:outreach@xrboston.org
URL:https://xrboston.org/action/march-climate-grief-circle-2024/
END:VEVENT
END:VCALENDAR
