BEGIN:VCALENDAR
VERSION:2.0
PRODID:-//Extinction Rebellion Boston//Action//
BEGIN:VEVENT
SUMMARY:March Climate Grief Circle
DTSTART:20250325T223000Z
DTEND:20250326T003000Z
DTSTAMP:20260423T004232Z
UID:2023@https://xrboston.org
CREATED:20260423T004232Z
DESCRIPTION:Join online: <a href="https://us06web.zoom.us/meeting/register
 /UQs-OID_Q1qz-MWt7sWbow">https://us06web.zoom.us/meeting/register/UQs-OID_
 Q1qz-MWt7sWbow</a>\n\nEvent details: <a href="https://xrboston.org/action/
 march-climate-grief-circle-2025/">https://xrboston.org/action/march-climat
 e-grief-circle-2025/</a>\n\nYou are welcome in this monthly circle\, where
  we contact and work with our climate grief. We are all experiencing so ma
 ny losses because of the climate crisis\, including extinction\, displacem
 ent\, loss of livelihood\, and irrevocable changes to beloved places. Our 
 resulting grief can show up in many different ways\, such as numbness\, bi
 tterness\, and despair. However your grief shows up\, you are welcome in t
 his space. We believe that working with grief requires support\, and that 
 is what we aim to provide. What’s more\, we trust that when we engage wi
 th our grief in a supported way\, we find that we no longer need to be afr
 aid of it\, and that frees us up to show up in service and love for the co
 mmunities that we hold dear.\n\nWith gentle facilitation and simple prompt
 s\, we will move through reflection and sharing that will get us out of ou
 r heads and into our hearts\, where our grief and our love for this world 
 reside. This 75-minute circle is open to all\, whether you are a seasoned 
 rebel or brand-new to XR.\n\n-::~:~::~:~:~:~:~:~:~:~:~:~:~:~:~:~:~:~:~:~:~
 :~:~:~:~:~:~:~:~:~:~:~:~:~:~:~:~:~::~:~::-\nDo not edit this section of th
 e description.\n\nThis event has a video call.\nJoin: https://us06web.zoom
 .us/meeting/register/UQs-OID_Q1qz-MWt7sWbow\n\nView your event at https://
 xrboston.org/action/march-climate-grief-circle-2025/\n-::~:~::~:~:~:~:~:~:
 ~:~:~:~:~:~:~:~:~:~:~:~:~:~:~:~:~:~:~:~:~:~:~:~:~:~:~:~:~:~::~:~::-
LAST-MODIFIED:20250228T122227Z
LOCATION:Online event
ORGANIZER;CN="Extinction Rebellion Boston":MAILTO:outreach@xrboston.org
URL:https://xrboston.org/action/march-climate-grief-circle-2025/
END:VEVENT
END:VCALENDAR
