BEGIN:VCALENDAR
VERSION:2.0
PRODID:-//Extinction Rebellion Boston//Action//
BEGIN:VEVENT
SUMMARY:March General Meeting
DTSTART:20240324T190000Z
DTEND:20240324T210000Z
DTSTAMP:20260425T164407Z
UID:1754@https://xrboston.org
CREATED:20260425T164407Z
DESCRIPTION:Event details: https://xrboston.org/action/march-general-mtg/\
 n\nWe'd love to see you at XR Boston's March General Meeting! Whether you'
 re new to our movement\, or an old hand\, it's the perfect place to connec
 t with our community of people who care about the climate\, and are ready 
 to do something about it.\n\nWe'll welcome new folks\, get to know each ot
 her\, and munch on vegan snacks.  One of our affinity groups will share a 
 Jenga game they created\, and we'll do an inspiring activity about HOPE.  
 Finally\, we'll do some prep for our Earth Day event outreach.  \n\nFood w
 ill be provided (including vegan and gluten-free options). Anything you ca
 n bring to share will be much appreciated! (Please label ingredients).\n\n
 It'll be held at the Democracy Center in Cambridge\, a short walk from the
  Harvard Square T stop\, in the Mandela and Parks rooms. The event will ru
 n approximately two hours.\n\nHOPE to see you there!!\n\nCOVID POLICIES: M
 asks and vaccination are encouraged but not required to attend. The Democr
 acy Center runs air purifiers in the space at all times
LAST-MODIFIED:20240317T174027Z
LOCATION:Harvard Square - Democracy Center - 45 Mt Auburn St\, Cambridge\,
  MA 02138
ORGANIZER;CN="Extinction Rebellion Boston":MAILTO:outreach@xrboston.org
URL:https://xrboston.org/action/march-general-mtg/
END:VEVENT
END:VCALENDAR
