BEGIN:VCALENDAR
VERSION:2.0
PRODID:-//Extinction Rebellion Boston//Action//
BEGIN:VEVENT
SUMMARY:"MASS Mobilization & Persuasion" | ORGANIZE EVERYWHERE! Workshop
DTSTART:20220403T230000Z
DTEND:20220404T010000Z
DTSTAMP:20260422T220500Z
UID:1113@https://xrboston.org
CREATED:20260422T220500Z
DESCRIPTION:Join online: <a href="https://us02web.zoom.us/j/87401193136?pw
 d=d2kxUUJPSWZ2R00rVTNYamswUmNHUT09">https://us02web.zoom.us/j/87401193136?
 pwd=d2kxUUJPSWZ2R00rVTNYamswUmNHUT09</a>\n\nEvent details: <a href="https:
 //xrboston.org/action/mass-mobilization-persuasion-workshop/">https://xrbo
 ston.org/action/mass-mobilization-persuasion-workshop/</a>\n\nJoin organiz
 ers from Extinction Rebellion Boston for the second session of our new org
 anizing workshop series!\n\nXR Boston is holding weekly workshops every Su
 nday for the next four weeks as an educational component of our new outrea
 ch campaign "ORGANIZE EVERYWHERE!".\n\nOver these four sessions\, you will
  learn some essential movement-building strategies\, persuasion techniques
 \, social movement history\, and organizing theory\, with a focus on utili
 zing the tools & concepts covered to grow the climate justice movement in 
 Massachusetts & worldwide.\n\nPlease join us for the second workshop in ou
 r series\, "MASS Mobilization & Persuasion" on Sunday\, Apr. 3rd at 7 PM v
 ia Zoom! \n\nFollowing on from "What Is An Organizer? (And Why You Already
  Are One!)"\, our second workshop will delve more deeply into the rhetoric
 al aspects of organizing\, including persuasion conversations\, 'hard asks
 '\, "raising the stakes"\, and many other useful strategies that can be em
 ployed while doing outreach & growing your movement. \n\nBy the workshop's
  conclusion\, you will be more comfortable talking with strangers than eve
 r before (at least when it comes to talking with them about the climate cr
 isis\, that is...). It's not to be missed. As always\, solidarity\, love\,
  & rage.\n\n-::~:~::~:~:~:~:~:~:~:~:~:~:~:~:~:~:~:~:~:~:~:~:~:~:~:~:~:~:~:
 ~:~:~:~:~:~:~:~:~::~:~::-\nDo not edit this section of the description.\n\
 nThis event has a video call.\nJoin: https://us02web.zoom.us/j/87401193136
 ?pwd=d2kxUUJPSWZ2R00rVTNYamswUmNHUT09\n\nView your event at https://xrbost
 on.org/action/mass-mobilization-persuasion-workshop/\n-::~:~::~:~:~:~:~:~:
 ~:~:~:~:~:~:~:~:~:~:~:~:~:~:~:~:~:~:~:~:~:~:~:~:~:~:~:~:~:~::~:~::-
LAST-MODIFIED:20220321T164938Z
LOCATION:Online event
ORGANIZER;CN="Extinction Rebellion Boston":MAILTO:outreach@xrboston.org
URL:https://xrboston.org/action/mass-mobilization-persuasion-workshop/
END:VEVENT
END:VCALENDAR
