BEGIN:VCALENDAR
VERSION:2.0
PRODID:-//Extinction Rebellion Boston//Action//
BEGIN:VEVENT
SUMMARY:[Solidarity Action] Awakening For Earth: Active Hope Training
DTSTART:20220220T153000Z
DTEND:20220220T173000Z
DTSTAMP:20260425T035509Z
UID:1028@https://xrboston.org
CREATED:20260425T035509Z
DESCRIPTION:Join online: <a href="https://us02web.zoom.us/j/85379287753?pw
 d=Tkl0K09VaHhmTFBIOEd3QlM1U3Y3Zz09">https://us02web.zoom.us/j/85379287753?
 pwd=Tkl0K09VaHhmTFBIOEd3QlM1U3Y3Zz09</a>\n\nEvent details: <a href="https:
 //xrboston.org/action/meditation-for-earth-online-meditation/">https://xrb
 oston.org/action/meditation-for-earth-online-meditation/</a>\n\nJoin [Awak
 ening For Earth](awakeningforearth.com) for [Active Hope training](https:/
 /activehope.training). This is the fifth of seven trainings. Feel free to 
 come even if you missed previous weeks.\n\nActive Hope is a training desig
 ned by Joanna Macy and Chris Johnstone to strengthen our ability to make a
  difference in the world. Awakening For Earth will dedicate seven ‘Sitti
 ng for Survival’ Sundays to explore this training together.\n\nJoin us a
 s we learn ways to nourish our capacity to face the many challenges of our
  time…from systemic racism to ecological destruction.\n\nIf you want to 
 learn more about this work\, you are encouraged to subscribe to the free A
 ctive Hope training\, or just drop in and check it out with us! The traini
 ng is designed to be flexible so we’re seeing this as a community explor
 ation.\n\n-----\n\n*Purifying our hearts of greed\, hatred\, and delusion\
 , we bless each other and generate a communal power and resilience that ca
 n effectively meet the daunting challenges that threaten our world.*\n--Ki
 ttisaro \n\n**When:** Every Sunday\, January 23-March 6\, 10:30am-12noon\n
 \n**Where:** Recurring[ zoom link here](https://us02web.zoom.us/j/85379287
 753?pwd=Tkl0K09VaHhmTFBIOEd3QlM1U3Y3Zz09)\nMeeting ID: 853 7928 7753 Passc
 ode: 304404\n\nYou can also sign up for their mailing list at awakeningfor
 earth.com.\n\n-::~:~::~:~:~:~:~:~:~:~:~:~:~:~:~:~:~:~:~:~:~:~:~:~:~:~:~:~:
 ~:~:~:~:~:~:~:~:~:~::~:~::-\nDo not edit this section of the description.\
 n\nThis event has a video call.\nJoin: https://us02web.zoom.us/j/853792877
 53?pwd=Tkl0K09VaHhmTFBIOEd3QlM1U3Y3Zz09\n\nView your event at https://xrbo
 ston.org/action/meditation-for-earth-online-meditation/\n-::~:~::~:~:~:~:~
 :~:~:~:~:~:~:~:~:~:~:~:~:~:~:~:~:~:~:~:~:~:~:~:~:~:~:~:~:~:~:~::~:~::-
LAST-MODIFIED:20220117T212955Z
LOCATION:Online event
ORGANIZER;CN="Extinction Rebellion Boston":MAILTO:outreach@xrboston.org
URL:https://xrboston.org/action/meditation-for-earth-online-meditation/
END:VEVENT
END:VCALENDAR
