BEGIN:VCALENDAR
VERSION:2.0
PRODID:-//Extinction Rebellion Boston//Action//
BEGIN:VEVENT
SUMMARY:[SOLIDARITY] MLK Day of Service - w/ Meetup at Life Alive Beforeha
 nd
DTSTART:20260119T180000Z
DTEND:20260119T200000Z
DTSTAMP:20260421T171801Z
UID:2202@https://xrboston.org
CREATED:20260421T171801Z
DESCRIPTION:Event details: https://xrboston.org/action/mlk2026/\n\nYou are
  warmly invited to join XR rebels and your Cambridge neighbors to lend you
 r helping hands in a variety of hands-on projects to honor Rev. Martin Lut
 her King Jr. on Monday\, January 19.\n\nWe will gather at 1pm at Life Aliv
 e for a pre-event socializing. Grab a bite or a beverage and look for us d
 ownstairs!\n\nWe will then proceed to the Welcome Gathering at Central Squ
 are Church at 2pm. At 2:30pm we will go to the Senior Center to help with 
 hands-on service projects that include making blankets and scarves for peo
 ple in need\, sorting donations\, and learning about racial justice and eq
 uity.\n\nIf you are able\, please bring non-perishable food\, gently used 
 winter clothing\, children’s books or new warm socks to donate.\n\nFind 
 more information about the 2026 Cambridge MLK Day of Service and Learning 
 [here](https://manyhelpinghands365.org/the-cambridge-mlk-day-of-service/).
  \n\nPlease RSVP on this XR web page and we'll let the organizers know we'
 re coming!\n\n* 1:00 PM\, Pre-Event Social at Life Alive (765 Massachusett
 s Ave)\n* 2:00 PM\, Welcome Gathering at Central Square Church (5 Magazine
  St)\n* 2:30 PM\, Hands-on Service Projects (we'll be going to the Senior 
 Center\, 806 Mass. Ave.)
LAST-MODIFIED:20260120T170050Z
LOCATION:Life Alive\, 765 Mass. Ave.\, Cambridge\, MA
ORGANIZER;CN="Extinction Rebellion Boston":MAILTO:outreach@xrboston.org
URL:https://xrboston.org/action/mlk2026/
END:VEVENT
END:VCALENDAR
