BEGIN:VCALENDAR
VERSION:2.0
PRODID:-//Extinction Rebellion Boston//Action//
BEGIN:VEVENT
SUMMARY:Movie Night - How to Blow Up a Pipeline
DTSTART:20230420T225000Z
DTEND:20230421T005000Z
DTSTAMP:20260421T120921Z
UID:1505@https://xrboston.org
CREATED:20260421T120921Z
DESCRIPTION:Event details: https://xrboston.org/action/movie-night-how-to-
 blow-up-a-pipeline/\n\nJoin us at Kendall Square Cinema for a 6:50 showing
  of Daniel Goldhaber's film. Tickets are $15.50\, recommend to purchase in
  advance (link in title below) if attending in groups to arrange seating.\
 n\n[How to Blow Up a Pipeline](https://booking.landmarktheatres.com/seats/
 2a38ae86-dd3b-4d8f-9796-7ee0f443ec6e/87265fe2-1562-40c7-8657-d2c4ab62c6a1)
 \n\nA crew of young environmental activists execute a daring mission to sa
 botage an oil pipeline in this taut and timely thriller that is part high-
 stakes heist\, part radical exploration of the climate crisis.
LAST-MODIFIED:20230419T002608Z
LOCATION:Kendall Square Cinema
ORGANIZER;CN="Extinction Rebellion Boston":MAILTO:outreach@xrboston.org
URL:https://xrboston.org/action/movie-night-how-to-blow-up-a-pipeline/
END:VEVENT
END:VCALENDAR
