BEGIN:VCALENDAR
VERSION:2.0
PRODID:-//Extinction Rebellion Boston//Action//
BEGIN:VEVENT
SUMMARY:Movie night: The Magnitude of All Things
DTSTART:20220918T230000Z
DTEND:20220919T010000Z
DTSTAMP:20260419T121338Z
UID:1292@https://xrboston.org
CREATED:20260419T121338Z
DESCRIPTION:Event details: https://xrboston.org/action/movie-night-magnitu
 de/\n\nLet's watch the acclaimed documentary\, "The Magnitude of All Thing
 s" starring XR Co-Founders\, Roger Hallam and Clare Farrell\, and also fea
 turing Greta Thunberg. \n\nWe'll be watching this in person (Red Sky Studi
 os)\, as well as online via "Discord."\n\nThis documentary explores hope &
  grief and the climate crisis. From IMDB: *Filmmaker Jennifer Abbott explo
 res the emotional and psychological dimensions of the climate crisis and t
 he relationship between grief and hope in times of personal and planetary 
 change.*\n\nThere will be time for networking and chatting as XR Boston co
 ntinues its week-long rebellion!\n\n***We will have limited seating availa
 ble\, if possible please bring your own chair or blanket for picnic style!
LAST-MODIFIED:20220918T210949Z
LOCATION:[Online and Red Sky Studios](https://goo.gl/maps/apVQQbMdKsn8WNpq
 9)
ORGANIZER;CN="Extinction Rebellion Boston":MAILTO:outreach@xrboston.org
URL:https://xrboston.org/action/movie-night-magnitude/
END:VEVENT
END:VCALENDAR
