BEGIN:VCALENDAR
VERSION:2.0
PRODID:-//Extinction Rebellion Boston//Action//
BEGIN:VEVENT
SUMMARY:New Member Orientation
DTSTART:20240115T230000Z
DTEND:20240116T010000Z
DTSTAMP:20260425T133505Z
UID:1691@https://xrboston.org
CREATED:20260425T133505Z
DESCRIPTION:Join online: <a href="https://us06web.zoom.us/meeting/register
 /tZcqcequrDMtE9OcdUKt5YZZ_EQM_ksw5nUh">https://us06web.zoom.us/meeting/reg
 ister/tZcqcequrDMtE9OcdUKt5YZZ_EQM_ksw5nUh</a>\n\nEvent details: <a href="
 https://xrboston.org/action/new-member-orientation-2024-01-15/">https://xr
 boston.org/action/new-member-orientation-2024-01-15/</a>\n\nExtinction Reb
 ellion groups across the globe are connected by shared demands and princip
 les that guide our work together. The four demands strategically focus our
  actions and our ten principles provide a common framework for how we carr
 y out those actions.\n\nOur Orientation will introduce you to these fundam
 entals\, explain how we organize\, and discuss how you can become part of 
 the movement.\n\nIf you are new to Extinction Rebellion or would just like
  to learn more about how it works\, please join us!\n\nWe will cover the f
 ollowing:\n\nWhat is XR?\nWhat is civil disobedience & direct action?\nWha
 t do we want?\nWhat are our principles and values?\nHow are we organized?\
 nHow you can get involved!\nThe session will run for 1 hour.\n\nREGISTER H
 ERE IN ADVANCE to receive a confirmation email containing information abou
 t joining the meeting.\n\nLooking forward to seeing you!\n\n\nAccessibilit
 y\nZoom but no CC\n\n-::~:~::~:~:~:~:~:~:~:~:~:~:~:~:~:~:~:~:~:~:~:~:~:~:~
 :~:~:~:~:~:~:~:~:~:~:~:~:~::~:~::-\nDo not edit this section of the descri
 ption.\n\nThis event has a video call.\nJoin: https://us06web.zoom.us/meet
 ing/register/tZcqcequrDMtE9OcdUKt5YZZ_EQM_ksw5nUh\n\nView your event at ht
 tps://xrboston.org/action/new-member-orientation-2024-01-15/\n-::~:~::~:~:
 ~:~:~:~:~:~:~:~:~:~:~:~:~:~:~:~:~:~:~:~:~:~:~:~:~:~:~:~:~:~:~:~:~:~::~:~::
 -
LAST-MODIFIED:20231211T032520Z
LOCATION:Online event
ORGANIZER;CN="Extinction Rebellion Boston":MAILTO:outreach@xrboston.org
URL:https://xrboston.org/action/new-member-orientation-2024-01-15/
END:VEVENT
END:VCALENDAR
