BEGIN:VCALENDAR
VERSION:2.0
PRODID:-//Extinction Rebellion Boston//Action//
BEGIN:VEVENT
SUMMARY:New Member Orientation
DTSTART:20240207T003000Z
DTEND:20240207T023000Z
DTSTAMP:20260425T153213Z
UID:1720@https://xrboston.org
CREATED:20260425T153213Z
DESCRIPTION:Join online: <a href="https://us06web.zoom.us/meeting/register
 /tZwoc-uuqzkpHNTsFrkj07Hh-ac6CMxRI5hp">https://us06web.zoom.us/meeting/reg
 ister/tZwoc-uuqzkpHNTsFrkj07Hh-ac6CMxRI5hp</a>\n\nEvent details: <a href="
 https://xrboston.org/action/new-member-orientation-2024-02-06/">https://xr
 boston.org/action/new-member-orientation-2024-02-06/</a>\n\nExtinction Reb
 ellion groups across the globe are connected by shared demands and princip
 les that guide our work together. The four demands strategically focus our
  actions and our ten principles provide a common framework for how we carr
 y out those actions.\n\nOur Orientation will introduce you to these fundam
 entals\, explain how we organize\, and discuss how you can become part of 
 the movement.\n\nIf you are new to Extinction Rebellion or would just like
  to learn more about how it works\, please join us!\n\nWe will cover the f
 ollowing:\n\nWhat is XR?\nWhat is civil disobedience & direct action?\nWha
 t do we want?\nWhat are our principles and values?\nHow are we organized?\
 nHow you can get involved!\nThe session will run for 1 hour.\n\nREGISTER I
 N ADVANCE to receive a confirmation email containing information about joi
 ning the meeting.\n\nLooking forward to seeing you!\n\n-::~:~::~:~:~:~:~:~
 :~:~:~:~:~:~:~:~:~:~:~:~:~:~:~:~:~:~:~:~:~:~:~:~:~:~:~:~:~:~::~:~::-\nDo n
 ot edit this section of the description.\n\nThis event has a video call.\n
 Join: https://us06web.zoom.us/meeting/register/tZwoc-uuqzkpHNTsFrkj07Hh-ac
 6CMxRI5hp\n\nView your event at https://xrboston.org/action/new-member-ori
 entation-2024-02-06/\n-::~:~::~:~:~:~:~:~:~:~:~:~:~:~:~:~:~:~:~:~:~:~:~:~:
 ~:~:~:~:~:~:~:~:~:~:~:~:~:~::~:~::-
LAST-MODIFIED:20240116T025251Z
LOCATION:Online event
ORGANIZER;CN="Extinction Rebellion Boston":MAILTO:outreach@xrboston.org
URL:https://xrboston.org/action/new-member-orientation-2024-02-06/
END:VEVENT
END:VCALENDAR
