BEGIN:VCALENDAR
VERSION:2.0
PRODID:-//Extinction Rebellion Boston//Action//
BEGIN:VEVENT
SUMMARY:New Member Orientation
DTSTART:20240319T223000Z
DTEND:20240320T003000Z
DTSTAMP:20260425T164834Z
UID:1737@https://xrboston.org
CREATED:20260425T164834Z
DESCRIPTION:Join online: <a href="https://us06web.zoom.us/meeting/register
 /tZMtduuvrD8oH9BuuFfPvP3E0aSywjF5qiy8">https://us06web.zoom.us/meeting/reg
 ister/tZMtduuvrD8oH9BuuFfPvP3E0aSywjF5qiy8</a>\n\nEvent details: <a href="
 https://xrboston.org/action/new-member-orientation-2024-03-18/">https://xr
 boston.org/action/new-member-orientation-2024-03-18/</a>\n\nExtinction Reb
 ellion groups across the globe are connected by shared demands and princip
 les that guide our work together. The four demands strategically focus our
  actions and our ten principles provide a common framework for how we carr
 y out those actions.\n\nOur Orientation will introduce you to these fundam
 entals\, explain how we organize\, and discuss how you can become part of 
 the movement.\n\nIf you are new to Extinction Rebellion or would just like
  to learn more about how it works\, please join us!\n\nWe will cover the f
 ollowing:\n\nWhat is XR?\nWhat is civil disobedience & direct action?\nWha
 t do we want?\nWhat are our principles and values?\nHow are we organized?\
 nHow you can get involved!\nThe session will run for 1 hour.\n\nREGISTER H
 ERE IN ADVANCE to receive a confirmation email containing information abou
 t joining the meeting.\n\nLooking forward to seeing you!\n\n-::~:~::~:~:~:
 ~:~:~:~:~:~:~:~:~:~:~:~:~:~:~:~:~:~:~:~:~:~:~:~:~:~:~:~:~:~:~:~:~::~:~::-\
 nDo not edit this section of the description.\n\nThis event has a video ca
 ll.\nJoin: https://us06web.zoom.us/meeting/register/tZMtduuvrD8oH9BuuFfPvP
 3E0aSywjF5qiy8\n\nView your event at https://xrboston.org/action/new-membe
 r-orientation-2024-03-18/\n-::~:~::~:~:~:~:~:~:~:~:~:~:~:~:~:~:~:~:~:~:~:~
 :~:~:~:~:~:~:~:~:~:~:~:~:~:~:~:~::~:~::-
LAST-MODIFIED:20240221T150803Z
LOCATION:Online event
ORGANIZER;CN="Extinction Rebellion Boston":MAILTO:outreach@xrboston.org
URL:https://xrboston.org/action/new-member-orientation-2024-03-18/
END:VEVENT
END:VCALENDAR
