BEGIN:VCALENDAR
VERSION:2.0
PRODID:-//Extinction Rebellion Boston//Action//
BEGIN:VEVENT
SUMMARY:New Member Orientation!
DTSTART:20240404T233000Z
DTEND:20240405T013000Z
DTSTAMP:20260425T182327Z
UID:1777@https://xrboston.org
CREATED:20260425T182327Z
DESCRIPTION:Join online: <a href="https://cambridgema.zoom.us/j/8728776259
 6">https://cambridgema.zoom.us/j/87287762596</a>\n\nEvent details: <a href
 ="https://xrboston.org/action/new-member-orientation-2024-04-04/">https://
 xrboston.org/action/new-member-orientation-2024-04-04/</a>\n\nExtinction R
 ebellion groups across the globe are connected by shared demands and princ
 iples that guide our work together. The four demands strategically focus o
 ur actions and our ten principles provide a common framework for how we ca
 rry out those actions.\n\nOur Orientation will introduce you to these fund
 amentals\, explain how we organize\, and discuss how you can become part o
 f the movement.\n\nIf you are new to Extinction Rebellion or would just li
 ke to learn more about how it works\, please join us!\n\nWe will cover the
  following:\n\nWhat is XR? What is civil disobedience & direct action? Wha
 t do we want? What are our principles and values? How are we organized? Ho
 w you can get involved! The session will run for 1 hour.\n\nREGISTER HERE 
 IN ADVANCE to receive a confirmation email containing information about jo
 ining the meeting.\n\nLooking forward to seeing you!\n\n-::~:~::~:~:~:~:~:
 ~:~:~:~:~:~:~:~:~:~:~:~:~:~:~:~:~:~:~:~:~:~:~:~:~:~:~:~:~:~:~::~:~::-\nDo 
 not edit this section of the description.\n\nThis event has a video call.\
 nJoin: https://cambridgema.zoom.us/j/87287762596\n\nView your event at htt
 ps://xrboston.org/action/new-member-orientation-2024-04-04/\n-::~:~::~:~:~
 :~:~:~:~:~:~:~:~:~:~:~:~:~:~:~:~:~:~:~:~:~:~:~:~:~:~:~:~:~:~:~:~:~::~:~::-
LAST-MODIFIED:20240325T021043Z
LOCATION:Online event
ORGANIZER;CN="Extinction Rebellion Boston":MAILTO:outreach@xrboston.org
URL:https://xrboston.org/action/new-member-orientation-2024-04-04/
END:VEVENT
END:VCALENDAR
