BEGIN:VCALENDAR
VERSION:2.0
PRODID:-//Extinction Rebellion Boston//Action//
BEGIN:VEVENT
SUMMARY:New Member Orientation!
DTSTART:20240424T223000Z
DTEND:20240425T003000Z
DTSTAMP:20260425T181536Z
UID:1778@https://xrboston.org
CREATED:20260425T181536Z
DESCRIPTION:Join online: <a href="https://us06web.zoom.us/meeting/register
 /tZ0rfuiupzgpG9c0xff1Tbr9e8vULRdOgnj9">https://us06web.zoom.us/meeting/reg
 ister/tZ0rfuiupzgpG9c0xff1Tbr9e8vULRdOgnj9</a>\n\nEvent details: <a href="
 https://xrboston.org/action/new-member-orientation-2024-04-24/">https://xr
 boston.org/action/new-member-orientation-2024-04-24/</a>\n\nExtinction Reb
 ellion groups across the globe are connected by shared demands and princip
 les that guide our work together. The four demands strategically focus our
  actions and our ten principles provide a common framework for how we carr
 y out those actions.\n\nOur Orientation will introduce you to these fundam
 entals\, explain how we organize\, and discuss how you can become part of 
 the movement.\n\nIf you are new to Extinction Rebellion or would just like
  to learn more about how it works\, please join us!\n\nWe will cover the f
 ollowing:\n\nWhat is XR? What is civil disobedience & direct action? What 
 do we want? What are our principles and values? How are we organized? How 
 you can get involved! The session will run for 1 hour.\n\nREGISTER HERE IN
  ADVANCE to receive a confirmation email containing information about join
 ing the meeting.\n\nLooking forward to seeing you!\n\n-::~:~::~:~:~:~:~:~:
 ~:~:~:~:~:~:~:~:~:~:~:~:~:~:~:~:~:~:~:~:~:~:~:~:~:~:~:~:~:~::~:~::-\nDo no
 t edit this section of the description.\n\nThis event has a video call.\nJ
 oin: https://us06web.zoom.us/meeting/register/tZ0rfuiupzgpG9c0xff1Tbr9e8vU
 LRdOgnj9\n\nView your event at https://xrboston.org/action/new-member-orie
 ntation-2024-04-24/\n-::~:~::~:~:~:~:~:~:~:~:~:~:~:~:~:~:~:~:~:~:~:~:~:~:~
 :~:~:~:~:~:~:~:~:~:~:~:~:~::~:~::-
LAST-MODIFIED:20240329T172625Z
LOCATION:Online event
ORGANIZER;CN="Extinction Rebellion Boston":MAILTO:outreach@xrboston.org
URL:https://xrboston.org/action/new-member-orientation-2024-04-24/
END:VEVENT
END:VCALENDAR
