BEGIN:VCALENDAR
VERSION:2.0
PRODID:-//Extinction Rebellion Boston//Action//
BEGIN:VEVENT
SUMMARY:New Member Orientation
DTSTART:20250429T223000Z
DTEND:20250430T003000Z
DTSTAMP:20260424T043808Z
UID:2024@https://xrboston.org
CREATED:20260424T043808Z
DESCRIPTION:Join online: <a href="https://us06web.zoom.us/meeting/register
 /lHhdsT_qS-GOGUSi51B9tA">https://us06web.zoom.us/meeting/register/lHhdsT_q
 S-GOGUSi51B9tA</a>\n\nEvent details: <a href="https://xrboston.org/action/
 new-member-orientation-2025-04-29/">https://xrboston.org/action/new-member
 -orientation-2025-04-29/</a>\n\nExtinction Rebellion groups across the glo
 be are connected by shared demands and principles that guide our work toge
 ther. The four demands strategically focus our actions and our ten princip
 les provide a common framework for how we carry out those actions.\n\nOur 
 Orientation will introduce you to these fundamentals\, explain how we orga
 nize\, and discuss how you can become part of the movement.\n\nIf you are 
 new to Extinction Rebellion or would just like to learn more about how it 
 works\, please join us!\n\nWe will cover the following:\n\nWhat is XR? Wha
 t is civil disobedience & direct action? What do we want? What are our pri
 nciples and values? How are we organized? How you can get involved! The se
 ssion will run for 1 hour.\n\nRSVP to this event post\, and to get the Zoo
 m link register with the "Online Meeting" link in this post.\n\nLooking fo
 rward to seeing you!\n\n-::~:~::~:~:~:~:~:~:~:~:~:~:~:~:~:~:~:~:~:~:~:~:~:
 ~:~:~:~:~:~:~:~:~:~:~:~:~:~:~::~:~::-\nDo not edit this section of the des
 cription.\n\nThis event has a video call.\nJoin: https://us06web.zoom.us/m
 eeting/register/lHhdsT_qS-GOGUSi51B9tA\n\nView your event at https://xrbos
 ton.org/action/new-member-orientation-2025-04-29/\n-::~:~::~:~:~:~:~:~:~:~
 :~:~:~:~:~:~:~:~:~:~:~:~:~:~:~:~:~:~:~:~:~:~:~:~:~:~:~:~::~:~::-
LAST-MODIFIED:20250424T154545Z
LOCATION:Online event
ORGANIZER;CN="Extinction Rebellion Boston":MAILTO:outreach@xrboston.org
URL:https://xrboston.org/action/new-member-orientation-2025-04-29/
END:VEVENT
END:VCALENDAR
