BEGIN:VCALENDAR
VERSION:2.0
PRODID:-//Extinction Rebellion Boston//Action//
BEGIN:VEVENT
SUMMARY:New Member Orientation!
DTSTART:20250402T233000Z
DTEND:20250403T013000Z
DTSTAMP:20260424T044528Z
UID:1982@https://xrboston.org
CREATED:20260424T044528Z
DESCRIPTION:Join online: <a href="https://cambridgema.zoom.us/j/8192805770
 7?pwd=nxTIYMZds3NFzP0nwXdDavmrkulhLN.1">https://cambridgema.zoom.us/j/8192
 8057707?pwd=nxTIYMZds3NFzP0nwXdDavmrkulhLN.1</a>\n\nEvent details: <a href
 ="https://xrboston.org/action/new-member-orientation-april-2-25/">https://
 xrboston.org/action/new-member-orientation-april-2-25/</a>\n\nExtinction R
 ebellion groups across the globe are connected by shared demands and princ
 iples that guide our work together. The four demands strategically focus o
 ur actions and our ten principles provide a common framework for how we ca
 rry out those actions.\n\nOur Orientation will introduce you to these fund
 amentals\, explain how we organize\, and discuss how you can become part o
 f the movement.\n\nIf you are new to Extinction Rebellion or would just li
 ke to learn more about how it works\, please join us!\n\nWe will cover the
  following:\n\nWhat is XR? What is civil disobedience & direct action? Wha
 t do we want? What are our principles and values? How are we organized? Ho
 w you can get involved! The session will run for 1 hour.\n\nRSVP to this e
 vent post to receive a confirmation email containing information about joi
 ning the meeting.\n\nLooking forward to seeing you!\n\n-::~:~::~:~:~:~:~:~
 :~:~:~:~:~:~:~:~:~:~:~:~:~:~:~:~:~:~:~:~:~:~:~:~:~:~:~:~:~:~::~:~::-\nDo n
 ot edit this section of the description.\n\nThis event has a video call.\n
 Join: https://cambridgema.zoom.us/j/81928057707?pwd=nxTIYMZds3NFzP0nwXdDav
 mrkulhLN.1\n\nView your event at https://xrboston.org/action/new-member-or
 ientation-april-2-25/\n-::~:~::~:~:~:~:~:~:~:~:~:~:~:~:~:~:~:~:~:~:~:~:~:~
 :~:~:~:~:~:~:~:~:~:~:~:~:~:~::~:~::-
LAST-MODIFIED:20250402T233547Z
LOCATION:Online event
ORGANIZER;CN="Extinction Rebellion Boston":MAILTO:outreach@xrboston.org
URL:https://xrboston.org/action/new-member-orientation-april-2-25/
END:VEVENT
END:VCALENDAR
