BEGIN:VCALENDAR
VERSION:2.0
PRODID:-//Extinction Rebellion Boston//Action//
BEGIN:VEVENT
SUMMARY:New Member Orientation!
DTSTART:20240306T003000Z
DTEND:20240306T023000Z
DTSTAMP:20260425T164757Z
UID:1729@https://xrboston.org
CREATED:20260425T164757Z
DESCRIPTION:Join online: <a href="https://cambridgema.zoom.us/j/8728776259
 6">https://cambridgema.zoom.us/j/87287762596</a>\n\nEvent details: <a href
 ="https://xrboston.org/action/new-member-orientation-mar-5-2024/">https://
 xrboston.org/action/new-member-orientation-mar-5-2024/</a>\n\nExtinction R
 ebellion groups across the globe are connected by shared demands and princ
 iples that guide our work together. The four demands strategically focus o
 ur actions and our ten principles provide a common framework for how we ca
 rry out those actions.\n\nOur Orientation will introduce you to these fund
 amentals\, explain how we organize\, and discuss how you can become part o
 f the movement.\n\nIf you are new to Extinction Rebellion or would just li
 ke to learn more about how it works\, please join us!\n\nWe will cover the
  following:\n\nWhat is XR?\nWhat is civil disobedience & direct action?\nW
 hat do we want?\nWhat are our principles and values?\nHow are we organized
 ?\nHow you can get involved!\nThe session will run for 1 hour.\n\nREGISTER
  IN ADVANCE to receive a confirmation email containing information about j
 oining the meeting.\n\nLooking forward to seeing you!\n\n-::~:~::~:~:~:~:~
 :~:~:~:~:~:~:~:~:~:~:~:~:~:~:~:~:~:~:~:~:~:~:~:~:~:~:~:~:~:~:~::~:~::-\nDo
  not edit this section of the description.\n\nThis event has a video call.
 \nJoin: https://cambridgema.zoom.us/j/87287762596\n\nView your event at ht
 tps://xrboston.org/action/new-member-orientation-mar-5-2024/\n-::~:~::~:~:
 ~:~:~:~:~:~:~:~:~:~:~:~:~:~:~:~:~:~:~:~:~:~:~:~:~:~:~:~:~:~:~:~:~:~::~:~::
 -
LAST-MODIFIED:20240202T015027Z
LOCATION:Online event
ORGANIZER;CN="Extinction Rebellion Boston":MAILTO:outreach@xrboston.org
URL:https://xrboston.org/action/new-member-orientation-mar-5-2024/
END:VEVENT
END:VCALENDAR
