BEGIN:VCALENDAR
VERSION:2.0
PRODID:-//Extinction Rebellion Boston//Action//
BEGIN:VEVENT
SUMMARY:New Member Welcome Call
DTSTART:20250811T233000Z
DTEND:20250812T013000Z
DTSTAMP:20260422T003209Z
UID:2132@https://xrboston.org
CREATED:20260422T003209Z
DESCRIPTION:Event details: https://xrboston.org/action/new-member-welcome-
 call-08-11-25/\n\nJoin us to learn how this global movement works\, what t
 he Boston Chapter has been up to\, and how to get plugged in! The call wil
 l last one hour.\n\nRSVP and the Zoom link will be emailed prior to the st
 art.\n\nWe look forward to seeing you!
LAST-MODIFIED:20250811T154147Z
LOCATION:Zoom - RSVP to the event page to receive link by email
ORGANIZER;CN="Extinction Rebellion Boston":MAILTO:outreach@xrboston.org
URL:https://xrboston.org/action/new-member-welcome-call-08-11-25/
END:VEVENT
END:VCALENDAR
