BEGIN:VCALENDAR
VERSION:2.0
PRODID:-//Extinction Rebellion Boston//Action//
BEGIN:VEVENT
SUMMARY:State House Standout for No New Fossil Fuel Infrastructure
DTSTART:20251002T140000Z
DTEND:20251002T160000Z
DTSTAMP:20260421T213358Z
UID:2107@https://xrboston.org
CREATED:20260421T213358Z
DESCRIPTION:Event details: https://xrboston.org/action/nnffi-07/\n\nEvery 
 Tuesday and Thursday between 10am and 2pm volunteers stand out at the Stat
 ehouse for 2-hour "shifts" either outside or inside depending on weather\,
  and interact with visitors\, legislators and Statehouse staff about the C
 limate Crisis. While there we keep up a daily stream of written messages o
 n prepared cards that are signed and hand delivered to legislator's office
 s.\n\nThis is a great way to participate in the climate movement with no r
 isk of arrest! Our persistent presence is our superpower\, and we are now 
 into our third year of this action. To get involved feel free to show up a
 t any of the times listed above and connect with volunteers already on sit
 e. To find us check first the General Hooker entrance from Beacon Street a
 nd\, if we are not there check the Ashburton entrance on Bowdoin Street. S
 igns\, tabards and handouts are supplied. If you have questions please con
 tact organizers at fossilfuels.standout.ma@proton.meState
LAST-MODIFIED:20250921T233428Z
LOCATION:Mass. Statehouse\, Beacon Street\, General Hooker Entrance
ORGANIZER;CN="Extinction Rebellion Boston":MAILTO:outreach@xrboston.org
URL:https://xrboston.org/action/nnffi-07/
END:VEVENT
END:VCALENDAR
